BEGIN:VCALENDAR
PRODID:-//AT Content Types//AT Event//EN
VERSION:2.0
METHOD:PUBLISH
BEGIN:VEVENT
DTSTAMP:20260419T111258Z
CREATED:20180615T121433Z
LAST-MODIFIED:20180615T121500Z
SUMMARY:Un giorno all'anno tutto l'anno: la Biblioteca Universitaria accessibile
DTSTART:20121202T230000Z
DTEND:20121202T230000Z
LOCATION:Biblioteca Universitaria di Bologna
URL:https://bub.unibo.it/it/bacheca/un-giorno-allanno-tutto-lanno-la-biblioteca-universitaria-accessibile
CLASS:PUBLIC
END:VEVENT
END:VCALENDAR
