BEGIN:VCALENDAR
PRODID:-//AT Content Types//AT Event//EN
VERSION:2.0
METHOD:PUBLISH
BEGIN:VEVENT
DTSTAMP:20260419T140352Z
CREATED:20260324T142552Z
LAST-MODIFIED:20260324T172038Z
SUMMARY:Temporary transformation and activation of TALEA Green Cells
DTSTART:20260324T230000Z
DTEND:20260326T230000Z
DESCRIPTION:March Workshop
LOCATION:25th and 27th at Bologna University Library - BUB via Zamboni\, 35\, Bologna\; 26th at Department of Architecture - BEA room via Ugo Foscolo 7\, Bologna
URL:https://bub.unibo.it/it/bacheca/temporary-transformation-and-activation-of-talea-green-cells
CLASS:PUBLIC
END:VEVENT
END:VCALENDAR
