BEGIN:VCALENDAR
PRODID:-//AT Content Types//AT Event//EN
VERSION:2.0
METHOD:PUBLISH
BEGIN:VEVENT
DTSTAMP:20260419T230904Z
CREATED:20180615T115522Z
LAST-MODIFIED:20180615T115526Z
SUMMARY:Presentazione dei volumi "Le lettere di Benedetto XIV al marchese Paolo Magnani" e "Le fatiche di Benedetto XIV"
DTSTART:20121023T220000Z
DTEND:20121023T220000Z
LOCATION:Aula Magna della Biblioteca Universitaria di Bologna
URL:https://bub.unibo.it/it/bacheca/presentazione-dei-volumi-le-lettere-di-benedetto-xiv-al-marchese-paolo-magnani-e-le-fatiche-di-benedetto-xiv
CLASS:PUBLIC
END:VEVENT
END:VCALENDAR
