BEGIN:VCALENDAR
PRODID:-//AT Content Types//AT Event//EN
VERSION:2.0
METHOD:PUBLISH
BEGIN:VEVENT
DTSTAMP:20260419T230851Z
CREATED:20180615T115713Z
LAST-MODIFIED:20180615T115716Z
SUMMARY:Patria Popolo Scienza: Quirico Filopanti tra le carte della BUB
DTSTART:20121017T220000Z
DTEND:20121123T230000Z
LOCATION:Aula Magna della Biblioteca Universitaria di Bologna
URL:https://bub.unibo.it/it/bacheca/patria-popolo-scienza-quirico-filopanti-tra-le-carte-della-bub
CLASS:PUBLIC
END:VEVENT
END:VCALENDAR
