BEGIN:VCALENDAR
PRODID:-//AT Content Types//AT Event//EN
VERSION:2.0
METHOD:PUBLISH
BEGIN:VEVENT
DTSTAMP:20260422T102428Z
CREATED:20240614T111225Z
LAST-MODIFIED:20240705T140340Z
SUMMARY:NICOLÒ DI GIACOMO. I COLORI DELLA PREGHIERA. Tra arte\, prassi liturgica\, devozione personale e committenza
DTSTART:20240623T220000Z
DTEND:20240719T220000Z
DESCRIPTION:Mostra bibliografica
LOCATION:Atrio dell'Aula Magna della Biblioteca Universitaria di Bologna
URL:https://bub.unibo.it/it/bacheca/nicolo-di-giacomo-i-colori-della-preghiera-tra-arte-prassi-liturgica-devozione-personale-e-committenza
CLASS:PUBLIC
END:VEVENT
END:VCALENDAR
