BEGIN:VCALENDAR
PRODID:-//AT Content Types//AT Event//EN
VERSION:2.0
METHOD:PUBLISH
BEGIN:VEVENT
DTSTAMP:20260419T142359Z
CREATED:20210426T100127Z
LAST-MODIFIED:20210426T100220Z
SUMMARY:Narratore dell'avvenire\, il documentario su Giovanni Pascoli
DTSTART:20210418T220000Z
DTEND:20210429T220000Z
DESCRIPTION:“Sciarada. Il circolo delle parole” Ep. 5
LOCATION:Su Rai5 e su RaiPlay
URL:https://bub.unibo.it/it/bacheca/narratore-dellavvenire-il-documentario-su-giovanni-pascoli
CLASS:PUBLIC
END:VEVENT
END:VCALENDAR
