BEGIN:VCALENDAR
PRODID:-//AT Content Types//AT Event//EN
VERSION:2.0
METHOD:PUBLISH
BEGIN:VEVENT
DTSTAMP:20260418T152831Z
CREATED:20230619T123317Z
LAST-MODIFIED:20230620T140012Z
SUMMARY:LEGATURE D’ARTE DEL NOVECENTO BOLOGNESE
DTSTART:20230623T220000Z
DTEND:20230721T220000Z
DESCRIPTION:Mostra
LOCATION:Atrio e Aula Magna della Biblioteca Universitaria di Bologna
URL:https://bub.unibo.it/it/bacheca/legature-arte-del-novecento-bolognese
CLASS:PUBLIC
END:VEVENT
END:VCALENDAR
