BEGIN:VCALENDAR
PRODID:-//AT Content Types//AT Event//EN
VERSION:2.0
METHOD:PUBLISH
BEGIN:VEVENT
DTSTAMP:20260419T230840Z
CREATED:20180615T111551Z
LAST-MODIFIED:20180615T122006Z
SUMMARY:Il Corano nella traduzione di I. Zilio Grandi
DTSTART:20121128T230000Z
DTEND:20121128T230000Z
LOCATION:Aula Magna della Biblioteca Universitaria di Bologna
URL:https://bub.unibo.it/it/bacheca/il-corano-nella-traduzione-di-i-zilio-grandi
CLASS:PUBLIC
END:VEVENT
END:VCALENDAR
