BEGIN:VCALENDAR
PRODID:-//AT Content Types//AT Event//EN
VERSION:2.0
METHOD:PUBLISH
BEGIN:VEVENT
DTSTAMP:20260419T230840Z
CREATED:20180615T120404Z
LAST-MODIFIED:20180615T120407Z
SUMMARY:Gli archivi delle Soprintendenze Bibliografiche per l’Emilia Romagna. Inventario
DTSTART:20120509T220000Z
DTEND:20120509T220000Z
LOCATION:Aula Magna della Biblioteca Universitaria di Bologna
URL:https://bub.unibo.it/it/bacheca/gli-archivi-delle-soprintendenze-bibliografiche-per-l2019emilia-romagna-inventario
CLASS:PUBLIC
END:VEVENT
END:VCALENDAR
