BEGIN:VCALENDAR
PRODID:-//AT Content Types//AT Event//EN
VERSION:2.0
METHOD:PUBLISH
BEGIN:VEVENT
DTSTAMP:20260419T230904Z
CREATED:20180615T110433Z
LAST-MODIFIED:20180615T110436Z
SUMMARY:Giornata Internazionale di studio per i 500 anni della stampa armena in Italia
DTSTART:20121205T230000Z
DTEND:20121205T230000Z
LOCATION:Aula Magna della Biblioteca Universitaria di Bologna
URL:https://bub.unibo.it/it/bacheca/giornata-internazionale-di-studio-per-i-500-anni-della-stampa-armena-in-italia
CLASS:PUBLIC
END:VEVENT
END:VCALENDAR
