BEGIN:VCALENDAR
PRODID:-//AT Content Types//AT Event//EN
VERSION:2.0
METHOD:PUBLISH
BEGIN:VEVENT
DTSTAMP:20260419T230413Z
CREATED:20180612T081809Z
LAST-MODIFIED:20180618T151409Z
SUMMARY:Concerto di Natale
DTSTART:20121215T230000Z
DTEND:20121215T230000Z
LOCATION:Aula Magna
URL:https://bub.unibo.it/it/bacheca/concerto-di-natale-2012
CLASS:PUBLIC
END:VEVENT
END:VCALENDAR
