BEGIN:VCALENDAR
PRODID:-//AT Content Types//AT Event//EN
VERSION:2.0
METHOD:PUBLISH
BEGIN:VEVENT
DTSTAMP:20260419T232540Z
CREATED:20180615T115943Z
LAST-MODIFIED:20180615T115946Z
SUMMARY:C_artelibro. Il principio delle pagine
DTSTART:20120912T220000Z
DTEND:20121012T220000Z
LOCATION:Aula Magna della Biblioteca Universitaria di Bologna
URL:https://bub.unibo.it/it/bacheca/c_artelibro-il-principio-delle-pagine
CLASS:PUBLIC
END:VEVENT
END:VCALENDAR
